BEGIN:VCALENDAR
VERSION:2.0
PRODID:-//Bridge Breast Network - ECPv6.15.20//NONSGML v1.0//EN
CALSCALE:GREGORIAN
METHOD:PUBLISH
X-ORIGINAL-URL:https://bridgebreast.org
X-WR-CALDESC:Events for Bridge Breast Network
REFRESH-INTERVAL;VALUE=DURATION:PT1H
X-Robots-Tag:noindex
X-PUBLISHED-TTL:PT1H
BEGIN:VTIMEZONE
TZID:America/Chicago
BEGIN:DAYLIGHT
TZOFFSETFROM:-0600
TZOFFSETTO:-0500
TZNAME:CDT
DTSTART:20120311T080000
END:DAYLIGHT
BEGIN:STANDARD
TZOFFSETFROM:-0500
TZOFFSETTO:-0600
TZNAME:CST
DTSTART:20121104T070000
END:STANDARD
BEGIN:DAYLIGHT
TZOFFSETFROM:-0600
TZOFFSETTO:-0500
TZNAME:CDT
DTSTART:20130310T080000
END:DAYLIGHT
BEGIN:STANDARD
TZOFFSETFROM:-0500
TZOFFSETTO:-0600
TZNAME:CST
DTSTART:20131103T070000
END:STANDARD
BEGIN:DAYLIGHT
TZOFFSETFROM:-0600
TZOFFSETTO:-0500
TZNAME:CDT
DTSTART:20140309T080000
END:DAYLIGHT
BEGIN:STANDARD
TZOFFSETFROM:-0500
TZOFFSETTO:-0600
TZNAME:CST
DTSTART:20141102T070000
END:STANDARD
BEGIN:DAYLIGHT
TZOFFSETFROM:-0600
TZOFFSETTO:-0500
TZNAME:CDT
DTSTART:20150308T080000
END:DAYLIGHT
BEGIN:STANDARD
TZOFFSETFROM:-0500
TZOFFSETTO:-0600
TZNAME:CST
DTSTART:20151101T070000
END:STANDARD
END:VTIMEZONE
BEGIN:VEVENT
DTSTART;TZID=America/Chicago:20141202T180000
DTEND;TZID=America/Chicago:20141202T200000
DTSTAMP:20260420T180546
CREATED:20141125T155645Z
LAST-MODIFIED:20141125T155845Z
UID:602-1417543200-1417550400@bridgebreast.org
SUMMARY:Kendra Scott Gives Back
DESCRIPTION:You’re invited to a KENDRA GIVES BACK PARTY\, a fun shopping event with 10% off your purchase and 10% of sales benefiting The Bridge Breast Network. \nEnjoy bubbles & bites while you shop. \nDecember 2\, 2014\n6:00 – 8:00 p.m. \nIn 2002 Kendra Scott launched a mini-jewelry collection.Today\, Kendra Scott Jewelry is a global\, multimillion-dollar brand sold at renowned retailers like Nordstrom\, Neiman Marcus\, Bloomingdales and 1\,000+ specialty boutiques worldwide.  Kendra Scott has become a household fashion name to women around the world.
URL:https://bridgebreast.org/event/kendra-scott-gives-back/
LOCATION:Kendra Scott\, 2699 Mckinney Avenue Suite C305\, Dallas\, TX\, 75204\, United States
ATTACH;FMTTYPE=image/jpeg:https://bridgebreast.org/wp-content/uploads/2014/11/kendrascott.jpg
END:VEVENT
BEGIN:VEVENT
DTSTART;TZID=America/Chicago:20140918T160000
DTEND;TZID=America/Chicago:20140918T190000
DTSTAMP:20260420T180546
CREATED:20140825T215246Z
LAST-MODIFIED:20140825T220507Z
UID:554-1411056000-1411066800@bridgebreast.org
SUMMARY:The Bridge Breast Network Open House
DESCRIPTION:Visit\, See and Give\nNew Location\nVisit our new office during our Open House\, September 18th from 4:00 – 7:00 p.m. We are still on the Baylor Campus\, now in our new location at 4000 Junius St. Dallas 75246. \nSee how your support helps The Bridge Breast Network achieve our mission. \nGive during our open house. In conjunction with the Communities Foundation of Texas\, North Texas Giving Day\, let’s make this our biggest day of giving yet. If you can’t make the Open House\, you can still show your support by donating on September 18th from 6am until midnight. Any donation of $25 or more will be multiplied. \nNorth Texas Giving Day – BBN Donation Page \nThe Bridge Breast Network (BBN) wishes to thank Baylor Health Care System (BHCS) for their faithful financial support over the last 20 years. Their continuing generosity is enabling the move to our new location at 4000 Junius Street. Thanks to BHCS for your on-going and sustaining gift.
URL:https://bridgebreast.org/event/bridge-breast-network-open-house/
LOCATION:Bridge Breast Network Main Office\, 4000 Junius Street\, Dallas\, TX\, 75246\, United States
END:VEVENT
BEGIN:VEVENT
DTSTART;VALUE=DATE:20140918
DTEND;VALUE=DATE:20140919
DTSTAMP:20260420T180546
CREATED:20140827T202610Z
LAST-MODIFIED:20140827T203733Z
UID:557-1410998400-1411084799@bridgebreast.org
SUMMARY:North Texas Giving Day
DESCRIPTION:GET UP & GIVE\n6AM – 12 Midnight\, Thursday\, September 18 \nThe Bridge Breast Network will participate in the North Texas Giving Day on September 18\, 2014. All donations of $25 or more made through the North Texas Giving Day site on September 18 are eligible for bonus funding. This means your dollars will go even further. So show your support for our mission\, tell a friend and give a donation of $25 or more. Every dollar counts in the fight against breast cancer. \nDuring the past 22 years\, The Bridge Breast Network has been able to provide diagnostic and treatment services for uninsured North Texans. This is made possible through the help of foundations\, medical providers\, and generous donors such as you. We hope you will support The Bridge Breast Network on September 18 and help us reach our goal of $20\,000. Remember to Get Up & Give. \nDonate
URL:https://bridgebreast.org/event/north-texas-giving-day/
LOCATION:TX
ATTACH;FMTTYPE=image/png:https://bridgebreast.org/wp-content/uploads/2014/08/northtexasgivingday.png
END:VEVENT
BEGIN:VEVENT
DTSTART;TZID=America/Chicago:20140719T180000
DTEND;TZID=America/Chicago:20140719T220000
DTSTAMP:20260420T180546
CREATED:20140626T190938Z
LAST-MODIFIED:20140626T200436Z
UID:512-1405792800-1405807200@bridgebreast.org
SUMMARY:Eye Got Thru IT
DESCRIPTION:Please CELEBRATE with me for kicking cancer to the curb! \nSo many of you have helped me and my family along this road\, and for that we are eternally grateful. Please Help Raise $$ to Help others Kick it too! Drop by even for a bit\, Eye’d love to see you there! \nJuly 19th (Saturday) 6pm-10pm \nFraternal Order of Eagles\n8500 Arturo Dr\, Dallas\, Texas 75228 \nBeneficiary: The Bridge Breast Network \nThe Bridge Breast Network is a nonprofit organization that saves lives by providing access to diagnostic and treatment services for breast cancer to low income\, uninsured and underinsured individuals. \nLIVE MUSIC Featuring:\n\nThe Good\, The Bad\, The Ugly\nPeace Cowboy\nLisa Byrn & The Smokey Bottom Boys\n\nSilent Auction\nArtists’ small works and donated gifts – cash and carry for a great cause! \nFull Cash Bar\nGreat POOL! Per their policy\, swimming $7 per person\nAs a part of fund raising FOE will sell smoked pork and brisket sandwiches and Ice Tea\nGUESTS-Please Bring SIDES and Small desserts\nFOE Policy: NO Liquid allowed in. \nQUESTIONS: Please call or text me 214-695-0599\, sincerely\, Jennifer Gregory Portz
URL:https://bridgebreast.org/event/eye-got-thru/
LOCATION:Fraternal Order of Eagles\, 8500 Arturo Dr\, Dallas\, TX\, 75228\, United States
END:VEVENT
BEGIN:VEVENT
DTSTART;VALUE=DATE:20140301
DTEND;VALUE=DATE:20140302
DTSTAMP:20260420T180546
CREATED:20140130T015020Z
LAST-MODIFIED:20140520T230840Z
UID:381-1393632000-1393718399@bridgebreast.org
SUMMARY:Cars and Coffee (March)
DESCRIPTION:The Bridge Breast Network is honored to be a recipient of donations collected at Cars and Coffee Dallas. These events take place the first Saturday morning of each month\, and are a gathering of hundreds of proud drivers who congregate to kick tires and have a cup of coffee. Thank you to Classic BMW for your support and for including The BBN in this fun event. \nThe BBN will be the beneficiary of two events in 2014:  March 1 and December 6. Come out early to see exotic\, classic and concept cars and have a cup of coffee with us! \nhttp://dallas.carsandcoffee.info \nhttp://www.classicbmw.com
URL:https://bridgebreast.org/event/cars-coffee-march/
LOCATION:Classic BMW\, 6800 Dallas Pkwy\, Plano \, TX\, 75024\, United States
ATTACH;FMTTYPE=image/jpeg:https://bridgebreast.org/wp-content/uploads/2014/01/carscoffeeMar.jpg
END:VEVENT
BEGIN:VEVENT
DTSTART;TZID=America/Chicago:20140222T190000
DTEND;TZID=America/Chicago:20140222T230000
DTSTAMP:20260420T180546
CREATED:20140124T223418Z
LAST-MODIFIED:20140626T192709Z
UID:196-1393095600-1393110000@bridgebreast.org
SUMMARY:2014 Mardi Gras Party
DESCRIPTION:Our Generous Event Sponsors and Partners: \nMardi Gras Host Sponsor\n \n \n\nTickets are SOLD OUT for this event. \nOn Saturday\, February 22\, 2014\, for our annual fundraiser we are throwing a Mardi Gras Party in the new Million Air Dallas hangar and terminal. We will let the good times roll at the festive evening event with entertainment\, dinner\, dancing\, and silent and live auction items.  We would be honored if you would join us. \nThe Bridge Breast Network saves lives by providing access to diagnostic and treatment services for breast cancer to low income\, uninsured\, and underinsured individuals. Since 1992\, The Bridge Breast Network has assisted more than 130\,000 individuals with lifesaving medical care in North Texas. \nLast year\, our program provided services to over 18\,000 individuals in North Texas. Only through the help of volunteers and generous donations from the North Texas community is The BBN able to carry out this vital mission. \nFor every dollar donated\, BBN clients receive nearly 10 times that amount in medical care. Hundreds of physicians and medical facilities volunteer their services or drastically reduce their fees to make such a large discount possible. \nYour tax-deductible donation goes toward providing lifesaving evaluations and treatments such as mammograms\, biopsies\, surgeries\, chemotherapy\, and radiation. \nFeaturing: \n\nSilent and Live Auctions\nBuffet Dinner\nCocktails\nDancing\nMusic by Time Machine (Live Band Karaoke)\nAttire: Cocktail Chic\nComplimentary valet parking
URL:https://bridgebreast.org/event/2014-mardi-gras-party/
LOCATION:Million Air\, 4300 Westgrove Drive\, Addison\, TX\, 75001\, United States
END:VEVENT
BEGIN:VEVENT
DTSTART;VALUE=DATE:20131102
DTEND;VALUE=DATE:20131103
DTSTAMP:20260420T180546
CREATED:20140128T181928Z
LAST-MODIFIED:20140128T182417Z
UID:320-1383350400-1383436799@bridgebreast.org
SUMMARY:Family Fun Day 2013
DESCRIPTION:On a beautiful day in early November\, The Bridge Breast Network held our inaugural Family Fun Day at Park Lane Ranch in Dallas. This fundraiser was a wonderful opportunity for the families of our Clients\, Donors and Volunteers to enjoy an afternoon of games\, miniature golf\, great food and music. Special thanks to our  Presenting Sponsor Expert Global  Solutions and volunteers for making this an afternoon to remember.
URL:https://bridgebreast.org/event/family-fun-day-2013/
LOCATION:Park Lane Ranch\, Dallas\, TX\, United States
END:VEVENT
END:VCALENDAR